BEGIN:VCALENDAR
VERSION:2.0
PRODID:-//Montana Walleyes Unlimited - ECPv6.15.20//NONSGML v1.0//EN
CALSCALE:GREGORIAN
METHOD:PUBLISH
X-ORIGINAL-URL:https://montanawalleyesunlimited.net
X-WR-CALDESC:Events for Montana Walleyes Unlimited
REFRESH-INTERVAL;VALUE=DURATION:PT1H
X-Robots-Tag:noindex
X-PUBLISHED-TTL:PT1H
BEGIN:VTIMEZONE
TZID:UTC
BEGIN:STANDARD
TZOFFSETFROM:+0000
TZOFFSETTO:+0000
TZNAME:UTC
DTSTART:20240101T000000
END:STANDARD
END:VTIMEZONE
BEGIN:VEVENT
DTSTART;VALUE=DATE:20250607
DTEND;VALUE=DATE:20250609
DTSTAMP:20260425T111945
CREATED:20250411T102744Z
LAST-MODIFIED:20250411T102744Z
UID:10856-1749254400-1749427199@montanawalleyesunlimited.net
SUMMARY:Rock Creek Tournament – June 7-8
DESCRIPTION:Rock Creek Tournament – June 7-8
URL:https://montanawalleyesunlimited.net/event/rock-creek-tournament-june-7-8/
END:VEVENT
END:VCALENDAR