BEGIN:VCALENDAR
VERSION:2.0
PRODID:-//wp-events-plugin.com//7.2.3.1//EN
TZID:America/Denver
X-WR-TIMEZONE:America/Denver
BEGIN:VEVENT
UID:47@montanawalleyesunlimited.net
DTSTART;TZID=America/Denver:20260429T000000
DTEND;TZID=America/Denver:20260430T000000
DTSTAMP:20260402T221612Z
URL:https://montanawalleyesunlimited.net/events/2026-ais-short-course-oppo
 rtunity/
SUMMARY:2026 AIS Short Course Opportunity
DESCRIPTION:On behalf of the Missoula County Department of Ecology and Exte
 nsion we would like to share and inform of the 3rd annual Aquatic Invasive
  Species Short Course. This event will take place on April 29th and 30th a
 t the Exploration Center in Missoula! In the past\, this conference has ho
 sted over 100 participants from several states and represented a variety o
 f government agencies\, regional stakeholders\, private companies\, univer
 sities\, and tribal organizations.\n\n\nThis year\, we have an agenda stac
 ked with presentations on aquatic invasive species\, how they spread\, man
 agement methods\, and local case studies. These talks are interspersed wit
 h workshops geared toward learning to better identify aquatic species as w
 ell as demonstrations of boat decontamination from folks at the check stat
 ions.\n\nThe Short Course will also provide an opportunity for attendees t
 o earn Continuing Education Units (CEUs) through the Montana Department of
  Agriculture in the following categories:\n    0 - Dealer - 6 cred
 its\n    5 - Aquatic Pest Control - 6 credits\n    10 - De
 monstration &amp\; Research Pest Control - 6 credits\n\nWe would love to h
 ave you or other folks at Montana Walleyes Unlimited attend this event. If
  you are interested in registering\, please see the attached flyer or visi
 t the link to the Short Course website (listed below). If you all are inte
 rested in sponsoring this event\, please see the attached 'Sponsorship Opt
 ions' flyer. We hope to see you there!\n\nIf there is anyone else you thin
 k would like to attend this event\, we would greatly appreciate you spread
 ing the word! Please don't hesitate to reach out to me or our AIS Coordina
 tor\, Clarissa Orton (corton@missoulacounty.us) if you have any further qu
 estions!\n\nBest\,\nJenna A.\n\nhttps://missoulaeduplace.org/what-we-do/ec
 osystem-management/aquatic-invasive-species/2026-ais-short-course.html\n
END:VEVENT
BEGIN:VTIMEZONE
TZID:America/Denver
X-LIC-LOCATION:America/Denver
BEGIN:DAYLIGHT
DTSTART:20260308T030000
TZOFFSETFROM:-0700
TZOFFSETTO:-0600
TZNAME:MDT
END:DAYLIGHT
END:VTIMEZONE
END:VCALENDAR