BEGIN:VCALENDAR
VERSION:2.0
PRODID:-//wp-events-plugin.com//7.2.3.1//EN
TZID:America/Denver
X-WR-TIMEZONE:America/Denver
BEGIN:VEVENT
UID:10@montanawalleyesunlimited.net
DTSTART;TZID=America/Denver:20260307T160000
DTEND;TZID=America/Denver:20260307T223000
DTSTAMP:20260227T002608Z
URL:https://montanawalleyesunlimited.net/events/billings-chapter-walleyes-
 unlimited-banquet/
SUMMARY:Billings Chapter Walleyes Unlimited Banquet
DESCRIPTION:\n\nSaturday March 7\nJoin us for an evening of fun with auctio
 ns\, raflles and prizes!!\n\nDoors Open at 4 pm\, dinner at 6 pm\nTickets 
 are $50 for Adults\, Children under 12 are $25 each\nThere are 850 Tickets
  available\nFor Tickets:  Contact Randy Redfern at 406-672-6305 or Bob Kl
 ein at 406-860-9192\n\n&nbsp\;\n\n&nbsp\;\n\n&nbsp\;\n\n&nbsp\;
LOCATION:Billings Hotel and Convention Center\, \, 
X-APPLE-STRUCTURED-LOCATION;VALUE=URI;X-ADDRESS=\, ;X-APPLE-RADIUS=100;X-TI
 TLE=Billings Hotel and Convention Center:geo:0,0
END:VEVENT
BEGIN:VTIMEZONE
TZID:America/Denver
X-LIC-LOCATION:America/Denver
BEGIN:STANDARD
DTSTART:20251102T010000
TZOFFSETFROM:-0600
TZOFFSETTO:-0700
TZNAME:MST
END:STANDARD
END:VTIMEZONE
END:VCALENDAR