BEGIN:VCALENDAR
VERSION:2.0
PRODID:-//wp-events-plugin.com//7.2.3.1//EN
TZID:America/Denver
X-WR-TIMEZONE:America/Denver
BEGIN:VEVENT
UID:46@montanawalleyesunlimited.net
DTSTART;TZID=America/Denver:20260718T083000
DTEND;TZID=America/Denver:20260718T143000
DTSTAMP:20260401T025220Z
URL:https://montanawalleyesunlimited.net/events/broadwater-rod-and-gun-clu
 b-walleye-derby/
SUMMARY:Broadwater Rod and Gun Club Walleye Derby
DESCRIPTION:Broadwater Rod and Gun Club Walleye Derby \n\nCLICK HERE FOR AP
 PLICATION!!\n\nJuly 18\, 2026  (8:30am-2:30pm) on Canyon Ferry out of Bro
 adwater Bay near the Silos.\n\nMaximum 90 2-person team. Forms can be foun
 d at www.broadwaterrodandgun.com\n\n&nbsp\;\n\nPlease fill out the entry f
 orm and include $150 entry fee.\n\n  Make checks out to Broadwater Rod &
 amp\; Gun Club (BRGC) &amp\; mail to PO BOX 641 Townsend MT 59644\n\n*****
 ** Entry fee is discounted to $100 if postmarked or received by July 8\, 2
 026*******\n\nHURRY! GET YOUR ENTRY MAILED or POSTMARKED BEFORE JULY 8\, 2
 026 to save $50.00!!!!\n\n \n\nA first prize of $1\,000 is based on a ful
 l field (90 2-person teams). Each of the three-team categories – female/
 female\, male/female\, adult/child (17 &amp\; under) – will have cash pr
 izes. Contestants may have five people in the boat but only 2 fishing. The
  derby is a catch-and-release format\, but one fish per entrant can be kep
 t as a trophy. A mandatory pre-tournament rules meeting will be held on Ju
 ly 17\, 2026 @ 7pm at the Broadwater Rod &amp\; Gun Club indoor shooting r
 ange at  96 Canton Lane Townsend\, Mt\n\nFor information contact:\n\nDebi
  Randolph   debi.randolph@gmail.com or 406-451-6035 (text is best)\n\nDo
 ug Breker at 406-949-0070 or email   dbreker@mt.net\n\nPlease include yo
 ur email address! That is how we let you know your entry is received and a
 ny updates.\n\n&nbsp\;
END:VEVENT
BEGIN:VTIMEZONE
TZID:America/Denver
X-LIC-LOCATION:America/Denver
BEGIN:DAYLIGHT
DTSTART:20260308T030000
TZOFFSETFROM:-0700
TZOFFSETTO:-0600
TZNAME:MDT
END:DAYLIGHT
END:VTIMEZONE
END:VCALENDAR