BEGIN:VCALENDAR
VERSION:2.0
PRODID:-//wp-events-plugin.com//7.2.3.1//EN
TZID:America/Denver
X-WR-TIMEZONE:America/Denver
BEGIN:VEVENT
UID:43@montanawalleyesunlimited.net
DTSTART;TZID=America/Denver:20260401T180000
DTEND;TZID=America/Denver:20260401T200000
DTSTAMP:20260401T013803Z
URL:https://montanawalleyesunlimited.net/events/gallatin-april-membership-
 meeting/
SUMMARY:Gallatin April Membership Meeting
DESCRIPTION:APRIL MEMBERSHIP MEETING\nWednesday\, April 1st\, 6:00 pm\n55 C
 ollins Road\, Belgrade\n(Corner of Frontage Rd &amp\; Collins Rd)\n\nGalla
 tin Chapter Walleyes Unlimited Members!\nJoin us for our monthly membershi
 p meeting\, Wednesday\, April 1st @ 6:00 pm.\n\nOur agenda will include:\n
 · FWP Pines for Perch\n· Spring Seminar &amp\; Social\n· Kids Fishing D
 ay\n· 2026 Projects / Goals!\n· Canyon Ferry Walleye Tournament\n\nSIGN 
 UP NOW FOR THE\nWALLEYE FISHING SEMINAR &amp\; SOCIAL\nClick Here or Scan 
 QR Code\n\nWe look forward to seeing you.\n\nVern Parrow\nChapter Presiden
 t\n406-581-0617\n\nEve Parrow\nChapter Secretary\n\nDON'T FORGET TO RENEW 
 YOUR ANNUAL MEMBERSHIP\n@ montanawalleyesunlimited.net or scan QR code bel
 ow\n\ngmwalleyesunlimited@outlook.com\n\n&nbsp\;\n\nGallatin Montana Walle
 yes Unlimited | PO Box 1024 | Belgrade\, MT 59714 US\nUnsubscribe | Update
  Profile | Constant Contact Data Notice\n\n&nbsp\;\n\n&nbsp\;\n\n&nbsp\;\n
 \n&nbsp\;\n\n&nbsp\;
END:VEVENT
BEGIN:VTIMEZONE
TZID:America/Denver
X-LIC-LOCATION:America/Denver
BEGIN:DAYLIGHT
DTSTART:20260308T030000
TZOFFSETFROM:-0700
TZOFFSETTO:-0600
TZNAME:MDT
END:DAYLIGHT
END:VTIMEZONE
END:VCALENDAR