BEGIN:VCALENDAR
VERSION:2.0
PRODID:-//wp-events-plugin.com//7.2.3.1//EN
TZID:America/Denver
X-WR-TIMEZONE:America/Denver
BEGIN:VEVENT
UID:21@montanawalleyesunlimited.net
DTSTART;TZID=America/Denver:20260709T080000
DTEND;TZID=America/Denver:20260709T120000
DTSTAMP:20260205T212448Z
URL:https://montanawalleyesunlimited.net/events/glasgow-chamber-guys-n-gal
 s-tournament/
SUMMARY:Glasgow Chamber "Guys n Gals" Tournament.
DESCRIPTION:Glasgow Chamber of Commerce event.  Fun for those Guys N Gals 
 before the Gov Cup!\n\nThursday morning 8-noon.
LOCATION:Fort Peck Marina\, \, 
X-APPLE-STRUCTURED-LOCATION;VALUE=URI;X-ADDRESS=\, ;X-APPLE-RADIUS=100;X-TI
 TLE=Fort Peck Marina:geo:0,0
END:VEVENT
BEGIN:VTIMEZONE
TZID:America/Denver
X-LIC-LOCATION:America/Denver
BEGIN:DAYLIGHT
DTSTART:20260308T030000
TZOFFSETFROM:-0700
TZOFFSETTO:-0600
TZNAME:MDT
END:DAYLIGHT
END:VTIMEZONE
END:VCALENDAR