BEGIN:VCALENDAR
VERSION:2.0
PRODID:-//wp-events-plugin.com//7.2.3.1//EN
TZID:America/Denver
X-WR-TIMEZONE:America/Denver
BEGIN:VEVENT
UID:14@montanawalleyesunlimited.net
DTSTART;TZID=America/Denver:20260718T070000
DTEND;TZID=America/Denver:20260718T150000
DTSTAMP:20260204T013807Z
URL:https://montanawalleyesunlimited.net/events/glasgow-fort-peck-womens-t
 ournament/
SUMMARY:Glasgow/Fort Peck Women's Tournament
DESCRIPTION:26th Annual Glasgow/Fort Peck Women's Tournament\n\nJuly 18\, 2
 026\n\nRules meeting on Friday night\, Gateway at 6 pm\n\nContact Jill Mei
 ers 406-263-7553 for details and entries\n\n&nbsp\;
LOCATION:Fort Peck Marina\, \, 
X-APPLE-STRUCTURED-LOCATION;VALUE=URI;X-ADDRESS=\, ;X-APPLE-RADIUS=100;X-TI
 TLE=Fort Peck Marina:geo:0,0
END:VEVENT
BEGIN:VTIMEZONE
TZID:America/Denver
X-LIC-LOCATION:America/Denver
BEGIN:DAYLIGHT
DTSTART:20260308T030000
TZOFFSETFROM:-0700
TZOFFSETTO:-0600
TZNAME:MDT
END:DAYLIGHT
END:VTIMEZONE
END:VCALENDAR