BEGIN:VCALENDAR
VERSION:2.0
PRODID:-//wp-events-plugin.com//7.2.3.1//EN
TZID:America/Denver
X-WR-TIMEZONE:America/Denver
BEGIN:VEVENT
UID:44@montanawalleyesunlimited.net
DTSTART;TZID=America/Denver:20260424T170000
DTEND;TZID=America/Denver:20260424T220000
DTSTAMP:20260401T014644Z
URL:https://montanawalleyesunlimited.net/events/jordan-wum-banquet/
SUMMARY:Jordan WUM Banquet
DESCRIPTION:
END:VEVENT
BEGIN:VTIMEZONE
TZID:America/Denver
X-LIC-LOCATION:America/Denver
BEGIN:DAYLIGHT
DTSTART:20260308T030000
TZOFFSETFROM:-0700
TZOFFSETTO:-0600
TZNAME:MDT
END:DAYLIGHT
END:VTIMEZONE
END:VCALENDAR