BEGIN:VCALENDAR
VERSION:2.0
PRODID:-//wp-events-plugin.com//7.2.3.1//EN
TZID:America/Denver
X-WR-TIMEZONE:America/Denver
BEGIN:VEVENT
UID:6@montanawalleyesunlimited.net
DTSTART;TZID=America/Denver:20260118T070000
DTEND;TZID=America/Denver:20260118T140000
DTSTAMP:20260109T130848Z
URL:https://montanawalleyesunlimited.net/events/postponed-central-montana-
 perch-derby-2/
SUMMARY:Postponed-Central Montana Perch Derby
DESCRIPTION:Postponed--rescheduled for February 21/22.
END:VEVENT
BEGIN:VTIMEZONE
TZID:America/Denver
X-LIC-LOCATION:America/Denver
BEGIN:STANDARD
DTSTART:20251102T010000
TZOFFSETFROM:-0600
TZOFFSETTO:-0700
TZNAME:MST
END:STANDARD
END:VTIMEZONE
END:VCALENDAR