BEGIN:VCALENDAR
VERSION:2.0
PRODID:-//wp-events-plugin.com//7.2.3.1//EN
TZID:America/Denver
X-WR-TIMEZONE:America/Denver
BEGIN:VEVENT
UID:35@montanawalleyesunlimited.net
DTSTART;TZID=America/Denver:20260224T180000
DTEND;TZID=America/Denver:20260224T210000
DTSTAMP:20260218T020212Z
URL:https://montanawalleyesunlimited.net/events/tiber-marina-upgrade-publi
 c-meeting/
SUMMARY:Tiber Marina Upgrade Public Meeting!!
DESCRIPTION:Meeting will be held in Chester on February 24 at the 1st Stree
 t Mercantile at 6pm!!\n\nHere is the link for the information!!\n\nPublic 
 Input Sought for Tiber Marina Upgrades
LOCATION:1st Street Mercantile\, Chester Montana\, \, 
X-APPLE-STRUCTURED-LOCATION;VALUE=URI;X-ADDRESS=\, ;X-APPLE-RADIUS=100;X-TI
 TLE=1st Street Mercantile\, Chester Montana:geo:0,0
END:VEVENT
BEGIN:VTIMEZONE
TZID:America/Denver
X-LIC-LOCATION:America/Denver
BEGIN:STANDARD
DTSTART:20251102T010000
TZOFFSETFROM:-0600
TZOFFSETTO:-0700
TZNAME:MST
END:STANDARD
END:VTIMEZONE
END:VCALENDAR