BEGIN:VCALENDAR
VERSION:2.0
PRODID:-//wp-events-plugin.com//7.2.3.1//EN
TZID:America/Denver
X-WR-TIMEZONE:America/Denver
BEGIN:VEVENT
UID:36@montanawalleyesunlimited.net
DTSTART;TZID=America/Denver:20260411T100000
DTEND;TZID=America/Denver:20260411T153000
DTSTAMP:20260312T150419Z
URL:https://montanawalleyesunlimited.net/events/walleye-fishing-tackle-and
 -techniques-fishing-seminar/
SUMMARY:Walleye Fishing Tackle and Techniques--Fishing Seminar
DESCRIPTION:Presented by Vern Gagnon\, Reel Therapy Fishing\nSaturday\, Apr
 il 11\, 2026\, 10:00am – 3:30pm – light lunch included\n\nLocation: 2n
 d Floor meeting room at Scheels\n\nLimited to 35 people. No cost if you ar
 e a Walleyes Unlimited Member! $20 for non-members\n\nSponsored by the Bil
 lings Chapter of Walleyes Unlimited! \nSign up for the seminar by contacti
 ng Deanna Redfern 406-698-5918\, or shirekd@hotmail.com
LOCATION:Scheels\, 1121 Shiloh Crossing Blvd\, Billings\, MT\, 59404\, 
X-APPLE-STRUCTURED-LOCATION;VALUE=URI;X-ADDRESS=1121 Shiloh Crossing Blvd\,
  Billings\, MT\, 59404\, ;X-APPLE-RADIUS=100;X-TITLE=Scheels:geo:0,0
END:VEVENT
BEGIN:VTIMEZONE
TZID:America/Denver
X-LIC-LOCATION:America/Denver
BEGIN:DAYLIGHT
DTSTART:20260308T030000
TZOFFSETFROM:-0700
TZOFFSETTO:-0600
TZNAME:MDT
END:DAYLIGHT
END:VTIMEZONE
END:VCALENDAR